BEGIN:VCALENDAR
VERSION:2.0
PRODID:-//PadelMann - ECPv6.15.16//NONSGML v1.0//EN
CALSCALE:GREGORIAN
METHOD:PUBLISH
X-WR-CALNAME:PadelMann
X-ORIGINAL-URL:https://padelmann.de
X-WR-CALDESC:Veranstaltungen für PadelMann
REFRESH-INTERVAL;VALUE=DURATION:PT1H
X-Robots-Tag:noindex
X-PUBLISHED-TTL:PT1H
BEGIN:VTIMEZONE
TZID:Europe/Berlin
BEGIN:DAYLIGHT
TZOFFSETFROM:+0100
TZOFFSETTO:+0200
TZNAME:CEST
DTSTART:20230326T010000
END:DAYLIGHT
BEGIN:STANDARD
TZOFFSETFROM:+0200
TZOFFSETTO:+0100
TZNAME:CET
DTSTART:20231029T010000
END:STANDARD
BEGIN:DAYLIGHT
TZOFFSETFROM:+0100
TZOFFSETTO:+0200
TZNAME:CEST
DTSTART:20240331T010000
END:DAYLIGHT
BEGIN:STANDARD
TZOFFSETFROM:+0200
TZOFFSETTO:+0100
TZNAME:CET
DTSTART:20241027T010000
END:STANDARD
BEGIN:DAYLIGHT
TZOFFSETFROM:+0100
TZOFFSETTO:+0200
TZNAME:CEST
DTSTART:20250330T010000
END:DAYLIGHT
BEGIN:STANDARD
TZOFFSETFROM:+0200
TZOFFSETTO:+0100
TZNAME:CET
DTSTART:20251026T010000
END:STANDARD
END:VTIMEZONE
BEGIN:VEVENT
DTSTART;TZID=Europe/Berlin:20240824T100000
DTEND;TZID=Europe/Berlin:20240824T140000
DTSTAMP:20260422T080336
CREATED:20240712T102615Z
LAST-MODIFIED:20240930T142818Z
UID:58191-1724493600-1724508000@padelmann.de
SUMMARY:WORKSHOP IM TCW
DESCRIPTION:Die beste Kombination aus Training und Matchpraxis. \n2 Stunden mit Kontrollübungen\, Technikerklärung\, Matchpraxis und Korbtraining. \nDie maximale Teilnehmeranzahl beträgt 8 und zwei Courts stehen für uns bereit. \n\nSession: 10:00-12:00 Uhr\nAnfänger – Level 1.5 – 2.5\nSession 12:00-14:00 Uhr\nFortgeschritten – Level 2.5 – 4\n\nDu kennst dein Level nicht? Kein Problem\, mach den Level-Check! \nIn folgender WhatsApp-Gruppe kannst du dich einbuchen: \n  \n 
URL:https://padelmann.de/event/beispielworkshop-2/
LOCATION:TCWeiden\, Kronstädterstraße 100\, Köln\, 50859\, Deutschland
CATEGORIES:Turnier
ATTACH;FMTTYPE=image/jpeg:https://padelmann.de/wp-content/uploads/2023/09/230415_Robinson_Yannik-0004--scaled.jpg
ORGANIZER;CN="Yannik Mann":MAILTO:yannik@padelmann.de
END:VEVENT
END:VCALENDAR