BEGIN:VCALENDAR
VERSION:2.0
PRODID:-//PadelMann - ECPv6.15.16//NONSGML v1.0//EN
CALSCALE:GREGORIAN
METHOD:PUBLISH
X-WR-CALNAME:PadelMann
X-ORIGINAL-URL:https://padelmann.de
X-WR-CALDESC:Veranstaltungen für PadelMann
REFRESH-INTERVAL;VALUE=DURATION:PT1H
X-Robots-Tag:noindex
X-PUBLISHED-TTL:PT1H
BEGIN:VTIMEZONE
TZID:Europe/Berlin
BEGIN:DAYLIGHT
TZOFFSETFROM:+0100
TZOFFSETTO:+0200
TZNAME:CEST
DTSTART:20240331T010000
END:DAYLIGHT
BEGIN:STANDARD
TZOFFSETFROM:+0200
TZOFFSETTO:+0100
TZNAME:CET
DTSTART:20241027T010000
END:STANDARD
BEGIN:DAYLIGHT
TZOFFSETFROM:+0100
TZOFFSETTO:+0200
TZNAME:CEST
DTSTART:20250330T010000
END:DAYLIGHT
BEGIN:STANDARD
TZOFFSETFROM:+0200
TZOFFSETTO:+0100
TZNAME:CET
DTSTART:20251026T010000
END:STANDARD
BEGIN:DAYLIGHT
TZOFFSETFROM:+0100
TZOFFSETTO:+0200
TZNAME:CEST
DTSTART:20260329T010000
END:DAYLIGHT
BEGIN:STANDARD
TZOFFSETFROM:+0200
TZOFFSETTO:+0100
TZNAME:CET
DTSTART:20261025T010000
END:STANDARD
END:VTIMEZONE
BEGIN:VEVENT
DTSTART;VALUE=DATE:20250911
DTEND;VALUE=DATE:20250913
DTSTAMP:20260421T220025
CREATED:20250904T085326Z
LAST-MODIFIED:20250912T150547Z
UID:58455-1757548800-1757721599@padelmann.de
SUMMARY:Padel Workshop Hofheim
DESCRIPTION:  \nAm Donnerstag\, den 11.09. findet im Racket Center Hofheim ein ganzer Tag Padelaktion statt. Das Training am 11.09. ist nicht buchbar\, sondern wird für Spieler der Anlage verlost oder auch im Vorfeld erspielt. \nAm 12.09. gibt es jedoch einen weiteren Tag voller Aktion und die folgenden Trainingsslots können über diese WhatsApp-Gruppe (klick) gebucht werden: \nFreitag 12.09. Padel Training \nPrivatstunden/ Gruppentrainings:\n10:00-11:00\n11:00-12:00\n12:00-13:00\n13:00-14:00 \n16:00-17:30 Workshop Lvl. 0-2\,5\n17:30-19:00 Workshop Lvl. 3-4\n19:00-20:30 Workshop Lv. 4-5 \nIn der Gruppe findest du den aktuellen Buchungsstand der Sessions.
URL:https://padelmann.de/event/padel-workshop-hofheim/
LOCATION:Racket Center – Hofheim\, Schloßstraße 70\, Hofheim am Taunus\, 65719\, Germany
CATEGORIES:Training,Workshop
ATTACH;FMTTYPE=image/jpeg:https://padelmann.de/wp-content/uploads/2024/02/@flotreiber-gpt-dus-20230326-00550-scaled.jpg
END:VEVENT
END:VCALENDAR