BEGIN:VCALENDAR
VERSION:2.0
PRODID:-//PadelMann - ECPv6.15.16//NONSGML v1.0//EN
CALSCALE:GREGORIAN
METHOD:PUBLISH
X-ORIGINAL-URL:https://padelmann.de
X-WR-CALDESC:Veranstaltungen für PadelMann
REFRESH-INTERVAL;VALUE=DURATION:PT1H
X-Robots-Tag:noindex
X-PUBLISHED-TTL:PT1H
BEGIN:VTIMEZONE
TZID:Europe/Berlin
BEGIN:DAYLIGHT
TZOFFSETFROM:+0100
TZOFFSETTO:+0200
TZNAME:CEST
DTSTART:20230326T010000
END:DAYLIGHT
BEGIN:STANDARD
TZOFFSETFROM:+0200
TZOFFSETTO:+0100
TZNAME:CET
DTSTART:20231029T010000
END:STANDARD
BEGIN:DAYLIGHT
TZOFFSETFROM:+0100
TZOFFSETTO:+0200
TZNAME:CEST
DTSTART:20240331T010000
END:DAYLIGHT
BEGIN:STANDARD
TZOFFSETFROM:+0200
TZOFFSETTO:+0100
TZNAME:CET
DTSTART:20241027T010000
END:STANDARD
BEGIN:DAYLIGHT
TZOFFSETFROM:+0100
TZOFFSETTO:+0200
TZNAME:CEST
DTSTART:20250330T010000
END:DAYLIGHT
BEGIN:STANDARD
TZOFFSETFROM:+0200
TZOFFSETTO:+0100
TZNAME:CET
DTSTART:20251026T010000
END:STANDARD
BEGIN:DAYLIGHT
TZOFFSETFROM:+0100
TZOFFSETTO:+0200
TZNAME:CEST
DTSTART:20260329T010000
END:DAYLIGHT
BEGIN:STANDARD
TZOFFSETFROM:+0200
TZOFFSETTO:+0100
TZNAME:CET
DTSTART:20261025T010000
END:STANDARD
BEGIN:DAYLIGHT
TZOFFSETFROM:+0100
TZOFFSETTO:+0200
TZNAME:CEST
DTSTART:20270328T010000
END:DAYLIGHT
BEGIN:STANDARD
TZOFFSETFROM:+0200
TZOFFSETTO:+0100
TZNAME:CET
DTSTART:20271031T010000
END:STANDARD
END:VTIMEZONE
BEGIN:VEVENT
DTSTART;VALUE=DATE:20260321
DTEND;VALUE=DATE:20260329
DTSTAMP:20260423T115302
CREATED:20240808T204749Z
LAST-MODIFIED:20260218T221955Z
UID:58181-1774051200-1774742399@padelmann.de
SUMMARY:Padelweek auf Mallorca
DESCRIPTION:  \nPadelweek Mallorca – Cala Serena wir kommen!\nEntdecke dein Padel-Potenzial: Das PadelCamp Mallorca im Cala Serena – Mit Padelweek! 🌴🎾\nDu träumst davon\, dein Padel-Spiel auf das nächste Level zu heben und gleichzeitig die Sonne Mallorcas zu genießen? Dann ist Padelurlaub im idyllischen Cala Serena – organisiert von Padelweek – genau das Richtige für dich! \nWas dich erwartet:\n\nProfessionelles Coaching: Erfahrene Padel-Trainer\, darunter Yannik Mann\, der sein Know-how mit Leidenschaft weitergibt. Egal\, ob Anfänger oder fortgeschrittener Spieler\, hier findest du das passende Training\, um deine Technik zu verbessern\, deine Taktik zu schärfen und deine Fähigkeiten zu optimieren.\nTop-Location: Das Cala Serena bietet die perfekte Kulisse für unvergessliche Padel-Erlebnisse. Genieße die wunderschöne Umgebung\, die modernen Padel-Courts und die erstklassigen Einrichtungen.\nIndividuelles Training: Das Camp bietet maßgeschneiderte Trainingsprogramme\, die auf deine individuellen Bedürfnisse und dein Spielniveau zugeschnitten sind. Profitiere von gezielten Übungen\, Videoanalysen und wertvollem Feedback.\nSpaß und Erholung: Neben dem intensiven Training erwartet dich ein abwechslungsreiches Rahmenprogramm. Entspanne am Strand\, erkunde die malerische Umgebung\, genieße köstliche Mahlzeiten und knüpfe neue Kontakte mit gleichgesinnten Padel-Enthusiasten.\nAll-Inclusive-Pakete: Padelweek bietet oft All-Inclusive-Pakete an\, die Unterkunft\, Verpflegung\, Training und Freizeitaktivitäten beinhalten. So kannst du dich voll und ganz auf dein Spiel konzentrieren und einen unbeschwerten Urlaub genießen.\n\nWarum das PadelCamp Mallorca im Cala Serena mit Padelweek wählen?\n\nExzellente Trainer: Führende Coaches\, darunter Yannik Mann\, mit fundiertem Wissen und viel Erfahrung.\nTraumhafte Location: Cala Serena bietet eine atemberaubende Kulisse für unvergessliche Padel-Momente.\nIndividuelles Training: Maßgeschneiderte Trainingsprogramme für alle Spielstärken.\nRundum-Sorglos-Paket: Genieße deinen Urlaub ohne Stress\, organisiert von Padelweek\, und konzentriere dich voll und ganz auf dein Spiel.\nUnvergessliche Erlebnisse: Knüpfe neue Kontakte\, erlebe unvergessliche Momente und verbessere dein Padel-Spiel in einer entspannten Atmosphäre.\n\nWie du teilnehmen kannst:\nInformiere dich jetzt über die aktuellen Termine und Angebote des PadelCamps Mallorca im Cala Serena\, veranstaltet von Padelweek. Buche dein unvergessliches Padel-Erlebnis und starte durch! Besuche die Website oder kontaktiere Padelweek direkt per WhatsApp-Chat. \nVerpasse nicht die Chance\, dein Padel-Spiel zu verbessern und gleichzeitig einen unvergesslichen Urlaub auf Mallorca zu verbringen! Wir freuen uns auf dich!
URL:https://padelmann.de/event/padelurlaub-padelweek-mallorca/
LOCATION:Robinson Cala Serena\, Av. Calo Petit\, 1\, Islas Baleares\, Spain
CATEGORIES:Padel Camp
ATTACH;FMTTYPE=image/jpeg:https://padelmann.de/wp-content/uploads/2024/08/csm_RCSN_Drone_Resort_15830_WOL_cf968f6112.jpg
END:VEVENT
BEGIN:VEVENT
DTSTART;VALUE=DATE:20260316
DTEND;VALUE=DATE:20260318
DTSTAMP:20260423T115302
CREATED:20260302T095000Z
LAST-MODIFIED:20260302T095629Z
UID:59656-1773619200-1773791999@padelmann.de
SUMMARY:Padel C-Trainerausbildung Mönchengladbach - Deutscher Padel Verband e.V.
DESCRIPTION:Werde Padel-Trainer mit der DPV C-Trainerausbildung – Dein Weg zum Erfolg! 🎾\nDu möchtest deine Leidenschaft für Padel zum Beruf machen oder dein Wissen auf ein neues Level heben? Dann ist die DPV C-Trainerausbildung des Deutschen Padel Verbandes genau das Richtige für dich! Diese umfassende Ausbildung\, basierend auf der international renommierten Methodik der Hello Padel Academy\, bietet dir das perfekte Fundament für deine Trainerkarriere. \n  \nWas dich erwartet:\nFundiertes Wissen: Erlerne die Grundlagen der Padel-Struktur\, von der Geschichte bis zur aktuellen Entwicklung\, inklusive wichtiger Turnierserien und Top-SpielerInnen. \nPraktische Fähigkeiten: Meistere die richtige Auswahl von Padel-Rackets\, entwickle ein tiefes Verständnis für Unterrichtseinheiten und lerne\, wie du diese effektiv planst und durchführst – mit der bewährten „Hello Padel Academy-Methode“. \nTaktik & Technik: Erhalte fundierte Kenntnisse in Taktik und Technik sowie ein umfassendes Verständnis der Padel-Regeln. \nOrganisationstalent: Erlerne die sichere und konstruktive Organisation von Padel-Aktivitäten. \n  \nAblauf der Ausbildung:\nDie DPV C-Trainerausbildung gliedert sich in drei Teile\, um dir eine optimale Vorbereitung zu ermöglichen: \n\n Vorbereitung (Online): Nutze die Online-Plattform der Hello Padel Academy und bereite dich in ca. 20 Stunden optimal auf die Praxis vor.\n Praxis & Theorieprüfung: Nimm an einem intensiven Praxisteil (ca. 16 Stunden) an verschiedenen Anlagen in ganz Deutschland teil und stelle dein Wissen in der Theorieprüfung unter Beweis. Die Termine findest du auf dieser Seite.\n Praxisprüfung (Video): Zeige dein Können in einer Praxisprüfung\, die du als Video einreichst. Diese besteht aus zwei Teilen: Einer Anwurf- und Anspielübung (45 Bälle in einem Durchgang) und einer Erklärung einer Schlagtechnik. Detaillierte Informationen erhältst du in der Vorbereitungsphase.\n\n  \nWichtige Informationen:\n\nAnmeldung: Die Anmeldung erfolgt einheitlich über die Website des DPV.\n \nAnmeldeschluss: 21 Tage vor Beginn des Praxisteils.\n \nZusätzliche Informationen: Zugang zur Hello Padel Academy und weitere Informationen erhältst du spätestens zwei Wochen vor Beginn des Praxisteils. Hotelempfehlungen bekommst du 14 Tage vor Kursbeginn. \nMindestteilnehmerzahl: Die Kurse finden ab 8 Teilnehmern statt. Bei weniger Anmeldungen behalten wir uns vor\, den Kurs abzusagen. \nTeilnehmerbegrenzung: Um eine hohe Qualität zu gewährleisten\, gibt es eine Teilnehmerbegrenzung je Standort. Bei Bedarf werden wir Alternativtermine anbieten bzw. die Ausbilderkapazitäten erweitern. \nStarte jetzt deine Trainerkarriere im Padel! Melde dich für die DPV C-Trainerausbildung an und werde Teil der wachsenden Padel-Community. \nHinweis: Die genauen Termine und Anmeldeformulare findest du hier: DPV-Ausbildungen
URL:https://padelmann.de/event/dpv-c-trainerausbildung-moenchengladbach/
LOCATION:Sportpark Mönchengladbach\, An den Holter Sportstätten 1\, Mönchengladbach\, 41069\, Deutschland
CATEGORIES:Trainerausbildung
ATTACH;FMTTYPE=image/jpeg:https://padelmann.de/wp-content/uploads/2026/03/Maenchengladbach_C_Trainerausbildung_DPV_2-scaled.jpeg
END:VEVENT
BEGIN:VEVENT
DTSTART;VALUE=DATE:20260307
DTEND;VALUE=DATE:20260309
DTSTAMP:20260423T115302
CREATED:20260228T231935Z
LAST-MODIFIED:20260302T094250Z
UID:59650-1772841600-1773014399@padelmann.de
SUMMARY:DPV C-Trainerausbildung Arnsberg
DESCRIPTION:Werde Padel-Trainer mit der DPV C-Trainerausbildung – Dein Weg zum Erfolg! 🎾\nDu möchtest deine Leidenschaft für Padel zum Beruf machen oder dein Wissen auf ein neues Level heben? Dann ist die DPV C-Trainerausbildung des Deutschen Padel Verbandes genau das Richtige für dich! Diese umfassende Ausbildung\, basierend auf der international renommierten Methodik der Hello Padel Academy\, bietet dir das perfekte Fundament für deine Trainerkarriere. \n  \nWas dich erwartet:\nFundiertes Wissen: Erlerne die Grundlagen der Padel-Struktur\, von der Geschichte bis zur aktuellen Entwicklung\, inklusive wichtiger Turnierserien und Top-SpielerInnen. \nPraktische Fähigkeiten: Meistere die richtige Auswahl von Padel-Rackets\, entwickle ein tiefes Verständnis für Unterrichtseinheiten und lerne\, wie du diese effektiv planst und durchführst – mit der bewährten „Hello Padel Academy-Methode“. \nTaktik & Technik: Erhalte fundierte Kenntnisse in Taktik und Technik sowie ein umfassendes Verständnis der Padel-Regeln. \nOrganisationstalent: Erlerne die sichere und konstruktive Organisation von Padel-Aktivitäten. \n  \nAblauf der Ausbildung:\nDie DPV C-Trainerausbildung gliedert sich in drei Teile\, um dir eine optimale Vorbereitung zu ermöglichen: \n\n Vorbereitung (Online): Nutze die Online-Plattform der Hello Padel Academy und bereite dich in ca. 20 Stunden optimal auf die Praxis vor.\n Praxis & Theorieprüfung: Nimm an einem intensiven Praxisteil (ca. 16 Stunden) an verschiedenen Anlagen in ganz Deutschland teil und stelle dein Wissen in der Theorieprüfung unter Beweis. Die Termine findest du auf dieser Seite.\n Praxisprüfung (Video): Zeige dein Können in einer Praxisprüfung\, die du als Video einreichst. Diese besteht aus zwei Teilen: Einer Anwurf- und Anspielübung (45 Bälle in einem Durchgang) und einer Erklärung einer Schlagtechnik. Detaillierte Informationen erhältst du in der Vorbereitungsphase.\n\n  \nWichtige Informationen:\n\nAnmeldung: Die Anmeldung erfolgt einheitlich über die Website des DPV.\n \nAnmeldeschluss: 21 Tage vor Beginn des Praxisteils.\n \nZusätzliche Informationen: Zugang zur Hello Padel Academy und weitere Informationen erhältst du spätestens zwei Wochen vor Beginn des Praxisteils. Hotelempfehlungen bekommst du 14 Tage vor Kursbeginn. \nMindestteilnehmerzahl: Die Kurse finden ab 8 Teilnehmern statt. Bei weniger Anmeldungen behalten wir uns vor\, den Kurs abzusagen. \nTeilnehmerbegrenzung: Um eine hohe Qualität zu gewährleisten\, gibt es eine Teilnehmerbegrenzung je Standort. Bei Bedarf werden wir Alternativtermine anbieten bzw. die Ausbilderkapazitäten erweitern. \nStarte jetzt deine Trainerkarriere im Padel! Melde dich für die DPV C-Trainerausbildung an und werde Teil der wachsenden Padel-Community. \nHinweis: Die genauen Termine und Anmeldeformulare findest du hier: DPV-Ausbildungen
URL:https://padelmann.de/event/dpv-c-trainerausbildung-arnsberg/
LOCATION:Padel Pulse Arnsberg\, Grabenstraße 26\, Arnsberg\, Nordrhein-Westfalen\, 59759\, Germany
CATEGORIES:Trainerausbildung
ATTACH;FMTTYPE=image/jpeg:https://padelmann.de/wp-content/uploads/2026/02/DPV-C_Trainerausbildung_Dortmund_Juni_2025-scaled.jpg
END:VEVENT
BEGIN:VEVENT
DTSTART;VALUE=DATE:20260224
DTEND;VALUE=DATE:20260226
DTSTAMP:20260423T115302
CREATED:20260216T220458Z
LAST-MODIFIED:20260216T221042Z
UID:59610-1771891200-1772063999@padelmann.de
SUMMARY:DPV C-Trainerausbildung in Hilden
DESCRIPTION:Die C-Trainerausbildung des Deutschen Padel Verbandes\nDie Methodologie der Ausbildung kommt von der international renommierten Hello Padel Academy.\nDie Anmeldung für die Ausbildungen erfolgen einheitlich über die Website des DPV\, hier. \nIm Folgenden ein kurzer Überblick\, was dich bei der DPV C-Trainerausbildung des Deutschen Padel Verbandes erwartet. \nInhalte\n\nGrundlegendes Verständnis der Struktur des Sports (Geschichte und aktuelle Entwicklung des Padel\, wichtige Turnierserien\, Top-SpielerInnen\, internationale Verbände)\nGrundkenntnisse über die verschiedenen Padel-Rackets für alle Spielstärken\nVollständiges Verständnis über die Struktur einer Padel-Unterrichtseinheit\nPlanung und Durchführung einer strukturierten Unterrichtseinheit mit der “HelloPadel Academy-Methode”\nGrundkenntnisse in Taktik und Technik sowie tiefere Kenntnisse der Padel-Regeln\nSichere und konstruktive Organisation von Aktivitäten im Zusammenhang mit Padel\n\nAblauf C-Trainer-Ausbildung\nDie Ausbildung ist in drei Teile gegliedert: \n\nTeil 1: Vorbereitung mit der online Plattform der Hello Padel Academy (ca. 20 Stunden)\nTeil 2: Praxisteil und Theorieprüfung (ca. 16 Stunden)\nTeil 3: Praxisprüfung (Als Prüfungsvideo)\n\nTeil 1: Vorbereitung\nDer Anmeldeschluss ist jeweils 21 Tage vor Beginn des Praxisteils.\nSpätestens zwei Wochen vor Beginn des Praxisteils bekommt ihr euren Zugang zur Hello Padel Academy und weitere Informationen zur Ausbildung per Mail. \nIhr bekommt 14 Tage vor Kursbeginn von uns auch Hotelempfehlungen\, bitte bucht nicht vorher oder plant bis dahin eure Anreise mit Stornooption. Sollte im Einzelfall ein Kurs abgesagt werden müssen\, können wir für entstandene Kosten keine Haftung übernehmen\, versuchen aber immer eine faire Lösung mit euch zu finden und euch alternative Teilnahmemöglichkeiten anzubieten. \nDie Mindestteilnehmerzahl je Standort beträgt 8 Personen. Bei weniger Meldungen bis 14 Tage vor dem Kurs sind wir berechtigt\, diesen abzusagen. Es erfolgt zur Sicherstellung einer hohen Qualität außerdem eine Teilnehmerbegrenzung je Standort. Bei Bedarf werden wir Alternativtermine anbieten bzw. die Ausbilderkapazitäten erweitern. \nTeil 2: Praxis und Theorieprüfung\nDer Praxisteil findet an verschiedenen Anlagen in ganz Deutschland statt. Du findest alle Termine und das jeweilige Anmeldeformular weiter oben auf dieser Seite \nTeil 3: Praxisprüfung\nDie Praxisprüfung wird in Form eines Videos eingereicht\, dass die Teilnehmer selber erstellen. Die Prüfung besteht aus 2 Videos. In dem ersten Video wird von den Teilnehmern eine Anwurf und Anspielübung verlangt\, die sich über 45 Bälle erstreckt und in einem Durchgang gefilmt werden muss. Nähere Informationen hierzu erhalten die Teilnehmer in der Vorbereitungsphase.\nIm zweiten Video muss der Teilnehmer eine Schlagtechnik erklären\, die von dem jeweiligen Ausbilder bestimmt wird.[/vc_column_text][/vc_column][/vc_row]
URL:https://padelmann.de/event/dpv-c-trainerausbildung-in-hilden/
LOCATION:Sportmühle Hilden\, Berliner Str. 55\, Hilden\, Nordrhein-Westfalen\, 40721\, Germany
CATEGORIES:Trainerausbildung
ATTACH;FMTTYPE=image/jpeg:https://padelmann.de/wp-content/uploads/2026/02/DPV-C_Trainerausbildung_Dortmund_Juni_2025-scaled.jpg
END:VEVENT
BEGIN:VEVENT
DTSTART;VALUE=DATE:20260221
DTEND;VALUE=DATE:20260223
DTSTAMP:20260423T115302
CREATED:20260216T215036Z
LAST-MODIFIED:20260216T220958Z
UID:59599-1771632000-1771804799@padelmann.de
SUMMARY:DPV C-Trainerausbildung in Hamburg
DESCRIPTION:Die C-Trainerausbildung des Deutschen Padel Verbandes\nDie Methodologie der Ausbildung kommt von der international renommierten Hello Padel Academy.\nDie Anmeldung für die Ausbildungen erfolgen einheitlich über die Website des DPV\, hier. \nIm Folgenden ein kurzer Überblick\, was dich bei der DPV C-Trainerausbildung des Deutschen Padel Verbandes erwartet. \nInhalte\n\nGrundlegendes Verständnis der Struktur des Sports (Geschichte und aktuelle Entwicklung des Padel\, wichtige Turnierserien\, Top-SpielerInnen\, internationale Verbände)\nGrundkenntnisse über die verschiedenen Padel-Rackets für alle Spielstärken\nVollständiges Verständnis über die Struktur einer Padel-Unterrichtseinheit\nPlanung und Durchführung einer strukturierten Unterrichtseinheit mit der “HelloPadel Academy-Methode”\nGrundkenntnisse in Taktik und Technik sowie tiefere Kenntnisse der Padel-Regeln\nSichere und konstruktive Organisation von Aktivitäten im Zusammenhang mit Padel\n\nAblauf C-Trainer-Ausbildung\nDie Ausbildung ist in drei Teile gegliedert: \n\nTeil 1: Vorbereitung mit der online Plattform der Hello Padel Academy (ca. 20 Stunden)\nTeil 2: Praxisteil und Theorieprüfung (ca. 16 Stunden)\nTeil 3: Praxisprüfung (Als Prüfungsvideo)\n\nTeil 1: Vorbereitung\nDer Anmeldeschluss ist jeweils 21 Tage vor Beginn des Praxisteils.\nSpätestens zwei Wochen vor Beginn des Praxisteils bekommt ihr euren Zugang zur Hello Padel Academy und weitere Informationen zur Ausbildung per Mail. \nIhr bekommt 14 Tage vor Kursbeginn von uns auch Hotelempfehlungen\, bitte bucht nicht vorher oder plant bis dahin eure Anreise mit Stornooption. Sollte im Einzelfall ein Kurs abgesagt werden müssen\, können wir für entstandene Kosten keine Haftung übernehmen\, versuchen aber immer eine faire Lösung mit euch zu finden und euch alternative Teilnahmemöglichkeiten anzubieten. \nDie Mindestteilnehmerzahl je Standort beträgt 8 Personen. Bei weniger Meldungen bis 14 Tage vor dem Kurs sind wir berechtigt\, diesen abzusagen. Es erfolgt zur Sicherstellung einer hohen Qualität außerdem eine Teilnehmerbegrenzung je Standort. Bei Bedarf werden wir Alternativtermine anbieten bzw. die Ausbilderkapazitäten erweitern. \nTeil 2: Praxis und Theorieprüfung\nDer Praxisteil findet an verschiedenen Anlagen in ganz Deutschland statt. Du findest alle Termine und das jeweilige Anmeldeformular weiter oben auf dieser Seite \nTeil 3: Praxisprüfung\nDie Praxisprüfung wird in Form eines Videos eingereicht\, dass die Teilnehmer selber erstellen. Die Prüfung besteht aus 2 Videos. In dem ersten Video wird von den Teilnehmern eine Anwurf und Anspielübung verlangt\, die sich über 45 Bälle erstreckt und in einem Durchgang gefilmt werden muss. Nähere Informationen hierzu erhalten die Teilnehmer in der Vorbereitungsphase.\nIm zweiten Video muss der Teilnehmer eine Schlagtechnik erklären\, die von dem jeweiligen Ausbilder bestimmt wird.[/vc_column_text][/vc_column][/vc_row]
URL:https://padelmann.de/event/trainerausbildung-hamburg/
LOCATION:Muğla
CATEGORIES:Trainerausbildung
ATTACH;FMTTYPE=image/jpeg:https://padelmann.de/wp-content/uploads/2026/02/DPV_C_Trainer_Ausbildung_Padel_November_2025-scaled.jpeg
END:VEVENT
BEGIN:VEVENT
DTSTART;VALUE=DATE:20250911
DTEND;VALUE=DATE:20250913
DTSTAMP:20260423T115302
CREATED:20250904T085326Z
LAST-MODIFIED:20250912T150547Z
UID:58455-1757548800-1757721599@padelmann.de
SUMMARY:Padel Workshop Hofheim
DESCRIPTION:  \nAm Donnerstag\, den 11.09. findet im Racket Center Hofheim ein ganzer Tag Padelaktion statt. Das Training am 11.09. ist nicht buchbar\, sondern wird für Spieler der Anlage verlost oder auch im Vorfeld erspielt. \nAm 12.09. gibt es jedoch einen weiteren Tag voller Aktion und die folgenden Trainingsslots können über diese WhatsApp-Gruppe (klick) gebucht werden: \nFreitag 12.09. Padel Training \nPrivatstunden/ Gruppentrainings:\n10:00-11:00\n11:00-12:00\n12:00-13:00\n13:00-14:00 \n16:00-17:30 Workshop Lvl. 0-2\,5\n17:30-19:00 Workshop Lvl. 3-4\n19:00-20:30 Workshop Lv. 4-5 \nIn der Gruppe findest du den aktuellen Buchungsstand der Sessions.
URL:https://padelmann.de/event/padel-workshop-hofheim/
LOCATION:Racket Center – Hofheim\, Schloßstraße 70\, Hofheim am Taunus\, 65719\, Germany
CATEGORIES:Training,Workshop
ATTACH;FMTTYPE=image/jpeg:https://padelmann.de/wp-content/uploads/2024/02/@flotreiber-gpt-dus-20230326-00550-scaled.jpg
END:VEVENT
BEGIN:VEVENT
DTSTART;TZID=Europe/Berlin:20250314T130000
DTEND;TZID=Europe/Berlin:20250314T210000
DTSTAMP:20260423T115302
CREATED:20250302T232814Z
LAST-MODIFIED:20250304T072451Z
UID:58395-1741957200-1741986000@padelmann.de
SUMMARY:HEAD gönnt dir was! Padel Workshop bei Racket Republik
DESCRIPTION:HEAD gönnt dir was! \nUnd was genau?\nEin exklusiver Workshop über 90-120 Minuten für die Spieler des Standortes. Die Teilnahme kannst du dir erspielen\, indem du an den Americano und Gold Court Event der Racket Republic Osnabrück teilnimmst.\nEvents der Racket Republik. \nDie ersten Gewinner stehen schon fest! Halt dich ran und sei dabei. \nIn den Workshops bekommst du einen guten Mix aus defensiver und offensiver Spieltechnik und Taktik.\nSalida\, Bajada\, Cuchilla oder Chiquita und Lob und damit ab nach vorne und Volley\, Stop\, Bandeja\, Vibora\, Rulo oder Kick x3 oder x4. Wie sieht’s mental bei dir aus?\nWas immer für den nächsten Schritt in deinem Spiel nötig ist – wenn nicht hier\, wo dann… \nSchau gerne mal in diesen Blogbeitrag: Padel-Special Teil 2: Padel-Schläge und taktische Tipps für dein perfektes Padel-Erlebnis \nIch freue mich auf deine Teilnahme.
URL:https://padelmann.de/event/head-goennt-dir-was-padel-workshop-bei-racket-republik/
LOCATION:Racket Republic Osnabrück\, Raiffeisenstraße 27\, Georgsmarienhütte\, 49124\, Germany
CATEGORIES:Training,Workshop
ATTACH;FMTTYPE=image/jpeg:https://padelmann.de/wp-content/uploads/2025/03/HEAD-goennt-dir-Padel-Training-Workshop-mit-Yannik-Mann-Racket-Republik-Osnabrueck.jpeg
END:VEVENT
BEGIN:VEVENT
DTSTART;VALUE=DATE:20250308
DTEND;VALUE=DATE:20250310
DTSTAMP:20260423T115302
CREATED:20250302T221527Z
LAST-MODIFIED:20250302T224047Z
UID:58383-1741392000-1741564799@padelmann.de
SUMMARY:Deutscher Padel Verband C-Trainerausbildung in Enge Sande
DESCRIPTION:[vc_row][vc_column][vc_column_text css=““] \nDie C-Trainerausbildung des Deutschen Padel Verbandes\nDie Methodologie der Ausbildung kommt von der international renommierten Hello Padel Academy\nDie Anmeldung für die Ausbildungen erfolgen einheitlich über die Website des DPV\, hier. \nIm Folgenden ein kurzer Überblick\, was dich bei der DPV C-Trainerausbildung des Deutschen Padel Verbandes erwartet. \nInhalte\n\nGrundlegendes Verständnis der Struktur des Sports (Geschichte und aktuelle Entwicklung des Padel\, wichtige Turnierserien\, Top-SpielerInnen\, internationale Verbände)\nGrundkenntnisse über die verschiedenen Padel-Rackets für alle Spielstärken\nVollständiges Verständnis über die Struktur einer Padel-Unterrichtseinheit\nPlanung und Durchführung einer strukturierten Unterrichtseinheit mit der “HelloPadel Academy-Methode”\nGrundkenntnisse in Taktik und Technik sowie tiefere Kenntnisse der Padel-Regeln\nSichere und konstruktive Organisation von Aktivitäten im Zusammenhang mit Padel\n\nAblauf C-Trainer-Ausbildung\nDie Ausbildung ist in drei Teile gegliedert: \n\nTeil 1: Vorbereitung mit der online Plattform der Hello Padel Academy (ca. 6 Stunden)\nTeil 2: Praxisteil und Theorieprüfung (ca. 16 Stunden)\nTeil 3: Praxisprüfung (Als Prüfungsvideo)\n\nTeil 1: Vorbereitung\nDer Anmeldeschluss ist jeweils 21 Tage vor Beginn des Praxisteils.\nSpätestens zwei Wochen vor Beginn des Praxisteils bekommt ihr euren Zugang zur Hello Padel Academy und weitere Informationen zur Ausbildung per Mail. \nIhr bekommt 14 Tage vor Kursbeginn von uns auch Hotelempfehlungen\, bitte bucht nicht vorher oder plant bis dahin eure Anreise mit Stornooption. Sollte im Einzelfall ein Kurs abgesagt werden müssen\, können wir für entstandene Kosten keine Haftung übernehmen\, versuchen aber immer eine faire Lösung mit euch zu finden und euch alternative Teilnahmemöglichkeiten anzubieten. \nDie Mindestteilnehmerzahl je Standort beträgt 8 Personen. Bei weniger Meldungen bis 14 Tage vor dem Kurs sind wir berechtigt\, diesen abzusagen. Es erfolgt zur Sicherstellung einer hohen Qualität außerdem eine Teilnehmerbegrenzung je Standort. Bei Bedarf werden wir Alternativtermine anbieten bzw. die Ausbilderkapazitäten erweitern. \nTeil 2: Praxis und Theorieprüfung\nDer Praxisteil findet an verschiedenen Anlagen in ganz Deutschland statt. Du findest alle Termine und das jeweilige Anmeldeformular weiter oben auf dieser Seite \nTeil 3: Praxisprüfung\nDie Praxisprüfung wird in Form eines Videos eingereicht\, dass die Teilnehmer selber erstellen. Die Prüfung besteht aus 2 Videos. In dem ersten Video wird von den Teilnehmern eine Anwurf und Anspielübung verlangt\, die sich über 45 Bälle erstreckt und in einem Durchgang gefilmt werden muss. Nähere Informationen hierzu erhalten die Teilnehmer in der Vorbereitungsphase.\nIm zweiten Video muss der Teilnehmer eine Schlagtechnik erklären\, die von dem jeweiligen Ausbilder bestimmt wird.[/vc_column_text][/vc_column][/vc_row]
URL:https://padelmann.de/event/deutscher-padel-verband-c-trainerausbildung-in-enge-sande/
LOCATION:Muğla
ATTACH;FMTTYPE=image/jpeg:https://padelmann.de/wp-content/uploads/2025/03/DPV-C-Trainerausbildung-Enge-Sande-2023.jpg
END:VEVENT
BEGIN:VEVENT
DTSTART;TZID=Europe/Berlin:20240824T100000
DTEND;TZID=Europe/Berlin:20240824T140000
DTSTAMP:20260423T115302
CREATED:20240712T102615Z
LAST-MODIFIED:20240930T142818Z
UID:58191-1724493600-1724508000@padelmann.de
SUMMARY:WORKSHOP IM TCW
DESCRIPTION:Die beste Kombination aus Training und Matchpraxis. \n2 Stunden mit Kontrollübungen\, Technikerklärung\, Matchpraxis und Korbtraining. \nDie maximale Teilnehmeranzahl beträgt 8 und zwei Courts stehen für uns bereit. \n\nSession: 10:00-12:00 Uhr\nAnfänger – Level 1.5 – 2.5\nSession 12:00-14:00 Uhr\nFortgeschritten – Level 2.5 – 4\n\nDu kennst dein Level nicht? Kein Problem\, mach den Level-Check! \nIn folgender WhatsApp-Gruppe kannst du dich einbuchen: \n  \n 
URL:https://padelmann.de/event/beispielworkshop-2/
LOCATION:TCWeiden\, Kronstädterstraße 100\, Köln\, 50859\, Deutschland
CATEGORIES:Turnier
ATTACH;FMTTYPE=image/jpeg:https://padelmann.de/wp-content/uploads/2023/09/230415_Robinson_Yannik-0004--scaled.jpg
ORGANIZER;CN="Yannik Mann":MAILTO:yannik@padelmann.de
END:VEVENT
BEGIN:VEVENT
DTSTART;VALUE=DATE:20240821
DTEND;VALUE=DATE:20240823
DTSTAMP:20260423T115302
CREATED:20240703T164056Z
LAST-MODIFIED:20240930T142835Z
UID:58016-1724198400-1724371199@padelmann.de
SUMMARY:TRAINERAUSBILDUNG
DESCRIPTION:Padel treibt dich an? Bring den Sport voran! \nLass dich zum Padel Trainer ausbilden und mach dein Hobby zum Beruf oder Nebenberuf. \nDPV hat mit der Hello Padel Academy einen internationalen Partner für die Trainerausbildung. \nDie nächste Trainerausbildung mit mir findet im Sportpark in Mönchengladbach statt. Falls dir der Termin oder der Ort nicht gefällt\, such dir einfach einen andere aus – direkt auf der DPV Homepage
URL:https://padelmann.de/event/beispielworkshop/
LOCATION:Sportpark Mönchengladbach\, An den Holter Sportstätten 1\, Mönchengladbach\, 41069\, Deutschland
CATEGORIES:Trainerausbildung
ATTACH;FMTTYPE=image/jpeg:https://padelmann.de/wp-content/uploads/2024/02/@flotreiber-gpt-dus-20230326-00624-scaled.jpg
ORGANIZER;CN="Yannik Mann":MAILTO:yannik@padelmann.de
END:VEVENT
BEGIN:VEVENT
DTSTART;VALUE=DATE:20240814
DTEND;VALUE=DATE:20240816
DTSTAMP:20260423T115302
CREATED:20240703T163657Z
LAST-MODIFIED:20240808T195419Z
UID:58012-1723593600-1723766399@padelmann.de
SUMMARY:TRAINERAUSBILDUNG
DESCRIPTION:Padel treibt dich an? Bring den Sport voran! \nLass dich zum Padel Trainer ausbilden und mach dein Hobby zum Beruf oder Nebenberuf. \nDPV hat mit der Hello Padel Academy einen internationalen Partner für die Trainerausbildung. \nDie nächste Trainerausbildung mit mir findet beim HTV in Hannover statt. Falls dir der Termin oder der Ort nicht gefällt\, such dir einfach einen andere aus – direkt auf der DPV Homepage \n  \n  \n 
URL:https://padelmann.de/event/beispielturnier/
LOCATION:HTV Hannover\, Bonner Str. 12\, Hannover\, 30173\, Deutschland
CATEGORIES:Trainerausbildung
ATTACH;FMTTYPE=image/jpeg:https://padelmann.de/wp-content/uploads/2024/02/6B6C50A5-EB5C-4907-9A68-9DD57FA78CBD_1_201_a.jpeg
ORGANIZER;CN="Yannik Mann":MAILTO:yannik@padelmann.de
END:VEVENT
END:VCALENDAR